BEGIN:VCALENDAR
VERSION:2.0
PRODID:-//Parroquia Santa Teresa - ECPv6.10.1//NONSGML v1.0//EN
CALSCALE:GREGORIAN
METHOD:PUBLISH
X-ORIGINAL-URL:https://laparroquia.org
X-WR-CALDESC:Eventos para Parroquia Santa Teresa
REFRESH-INTERVAL;VALUE=DURATION:PT1H
X-Robots-Tag:noindex
X-PUBLISHED-TTL:PT1H
BEGIN:VTIMEZONE
TZID:UTC
BEGIN:STANDARD
TZOFFSETFROM:+0000
TZOFFSETTO:+0000
TZNAME:UTC
DTSTART:20220101T000000
END:STANDARD
END:VTIMEZONE
BEGIN:VEVENT
DTSTART;TZID=UTC:20221008T160000
DTEND;TZID=UTC:20221008T170000
DTSTAMP:20260421T114833
CREATED:20221003T192041Z
LAST-MODIFIED:20221003T192041Z
UID:9310-1665244800-1665248400@laparroquia.org
SUMMARY:Ajonjolí y Taller de Guitarra
DESCRIPTION:
URL:https://laparroquia.org/event/ajonjoli-y-taller-de-guitarra/
END:VEVENT
BEGIN:VEVENT
DTSTART;VALUE=DATE:20221008
DTEND;VALUE=DATE:20221009
DTSTAMP:20260421T114833
CREATED:20221003T192303Z
LAST-MODIFIED:20221003T192303Z
UID:9313-1665187200-1665273599@laparroquia.org
SUMMARY:Visita Edades del Hombre
DESCRIPTION:
URL:https://laparroquia.org/event/visita-edades-del-hombre/
END:VEVENT
BEGIN:VEVENT
DTSTART;TZID=UTC:20221004T203000
DTEND;TZID=UTC:20221004T203000
DTSTAMP:20260421T114833
CREATED:20221003T192016Z
LAST-MODIFIED:20221003T192016Z
UID:9308-1664915400-1664915400@laparroquia.org
SUMMARY:Consejo de Pastoral Parroquial
DESCRIPTION:
URL:https://laparroquia.org/event/consejo-de-pastoral-parroquial-3/
END:VEVENT
BEGIN:VEVENT
DTSTART;TZID=UTC:20220508T120000
DTEND;TZID=UTC:20220508T133000
DTSTAMP:20260421T114833
CREATED:20220502T134744Z
LAST-MODIFIED:20220502T134744Z
UID:9104-1652011200-1652016600@laparroquia.org
SUMMARY:Primera Misa Carlos A. Diego CSSR
DESCRIPTION:
URL:https://laparroquia.org/event/primera-misa-carlos-a-diego-cssr/
END:VEVENT
BEGIN:VEVENT
DTSTART;TZID=UTC:20220507T130000
DTEND;TZID=UTC:20220507T143000
DTSTAMP:20260421T114833
CREATED:20220502T134632Z
LAST-MODIFIED:20220502T134632Z
UID:9100-1651928400-1651933800@laparroquia.org
SUMMARY:Primeras Comuniones. Hoy la Misa de las 12:30 se adelanta a las 12:00 h
DESCRIPTION:
URL:https://laparroquia.org/event/primeras-comuniones-hoy-la-misa-de-las-1230-se-adelanta-a-las-1200-h/
END:VEVENT
BEGIN:VEVENT
DTSTART;VALUE=DATE:20220507
DTEND;VALUE=DATE:20220508
DTSTAMP:20260421T114833
CREATED:20220502T134707Z
LAST-MODIFIED:20220502T134707Z
UID:9102-1651881600-1651967999@laparroquia.org
SUMMARY:Adoración nocturna
DESCRIPTION:
URL:https://laparroquia.org/event/adoracion-nocturna-2/
END:VEVENT
BEGIN:VEVENT
DTSTART;TZID=UTC:20220504T180000
DTEND;TZID=UTC:20220504T180000
DTSTAMP:20260421T114833
CREATED:20220502T134542Z
LAST-MODIFIED:20220502T134542Z
UID:9098-1651687200-1651687200@laparroquia.org
SUMMARY:Reunión padres de 1ª Comunión y de Confirmación de adultos
DESCRIPTION:
URL:https://laparroquia.org/event/reunion-padres-de-1a-comunion-y-de-confirmacion-de-adultos/
END:VEVENT
BEGIN:VEVENT
DTSTART;TZID=UTC:20220503T203000
DTEND;TZID=UTC:20220503T203000
DTSTAMP:20260421T114833
CREATED:20220502T134505Z
LAST-MODIFIED:20220502T134505Z
UID:9096-1651609800-1651609800@laparroquia.org
SUMMARY:Consejo de Pastoral Parroquial
DESCRIPTION:
URL:https://laparroquia.org/event/consejo-de-pastoral-parroquial-2/
END:VEVENT
BEGIN:VEVENT
DTSTART;TZID=UTC:20220423T110000
DTEND;TZID=UTC:20220423T233000
DTSTAMP:20260421T114833
CREATED:20220422T102211Z
LAST-MODIFIED:20220422T102211Z
UID:9085-1650711600-1650756600@laparroquia.org
SUMMARY:Viaje a Madrid (Ordenación Sacerdotal)
DESCRIPTION:
URL:https://laparroquia.org/event/viaje-a-madrid-ordenacion-sacerdotal/
END:VEVENT
BEGIN:VEVENT
DTSTART;VALUE=DATE:20220417
DTEND;VALUE=DATE:20220418
DTSTAMP:20260421T114833
CREATED:20220402T082549Z
LAST-MODIFIED:20220402T082549Z
UID:9018-1650153600-1650239999@laparroquia.org
SUMMARY:Domingo de Resurrección (Se suprime misa de 10h)
DESCRIPTION:
URL:https://laparroquia.org/event/domingo-de-resurreccion-se-suprime-misa-de-10h/
END:VEVENT
BEGIN:VEVENT
DTSTART;TZID=UTC:20220416T220000
DTEND;TZID=UTC:20220416T220000
DTSTAMP:20260421T114833
CREATED:20220402T082501Z
LAST-MODIFIED:20220402T082501Z
UID:9016-1650146400-1650146400@laparroquia.org
SUMMARY:Solemne Vigilia Pascual
DESCRIPTION:
URL:https://laparroquia.org/event/solemne-vigilia-pascual/
END:VEVENT
BEGIN:VEVENT
DTSTART;TZID=UTC:20220416T123000
DTEND;TZID=UTC:20220416T123000
DTSTAMP:20260421T114833
CREATED:20220402T082439Z
LAST-MODIFIED:20220402T084432Z
UID:9014-1650112200-1650112200@laparroquia.org
SUMMARY:Oración Mariana (Parroquia San Juan de Mata)
DESCRIPTION:
URL:https://laparroquia.org/event/oracion-mariana-parroquia-san-juan-de-mata/
END:VEVENT
BEGIN:VEVENT
DTSTART;TZID=UTC:20220416T100000
DTEND;TZID=UTC:20220416T100000
DTSTAMP:20260421T114833
CREATED:20220402T082350Z
LAST-MODIFIED:20220402T082407Z
UID:9011-1650103200-1650103200@laparroquia.org
SUMMARY:Laudes (Parroquia San Juan de Mata)
DESCRIPTION:
URL:https://laparroquia.org/event/laudes/
END:VEVENT
BEGIN:VEVENT
DTSTART;TZID=UTC:20220415T213000
DTEND;TZID=UTC:20220415T213000
DTSTAMP:20260421T114833
CREATED:20220402T082320Z
LAST-MODIFIED:20220402T082320Z
UID:9009-1650058200-1650058200@laparroquia.org
SUMMARY:Adoración a la Cruz
DESCRIPTION:
URL:https://laparroquia.org/event/adoracion-a-la-cruz/
END:VEVENT
BEGIN:VEVENT
DTSTART;TZID=UTC:20220415T170000
DTEND;TZID=UTC:20220415T170000
DTSTAMP:20260421T114833
CREATED:20220402T082255Z
LAST-MODIFIED:20220402T082255Z
UID:9007-1650042000-1650042000@laparroquia.org
SUMMARY:Celebración de la Pasión del Señor
DESCRIPTION:
URL:https://laparroquia.org/event/celebracion-de-la-pasion-del-senor/
END:VEVENT
BEGIN:VEVENT
DTSTART;TZID=UTC:20220415T120000
DTEND;TZID=UTC:20220415T120000
DTSTAMP:20260421T114833
CREATED:20220402T082231Z
LAST-MODIFIED:20220402T082231Z
UID:9005-1650024000-1650024000@laparroquia.org
SUMMARY:Vía Crucis
DESCRIPTION:
URL:https://laparroquia.org/event/via-crucis/
END:VEVENT
BEGIN:VEVENT
DTSTART;TZID=UTC:20220415T100000
DTEND;TZID=UTC:20220415T100000
DTSTAMP:20260421T114833
CREATED:20220402T082205Z
LAST-MODIFIED:20220402T082205Z
UID:9003-1650016800-1650016800@laparroquia.org
SUMMARY:Laudes (Parroquia San Juan de Mata)
DESCRIPTION:
URL:https://laparroquia.org/event/laudes-parroquia-san-juan-de-mata/
END:VEVENT
BEGIN:VEVENT
DTSTART;TZID=UTC:20220414T220000
DTEND;TZID=UTC:20220414T220000
DTSTAMP:20260421T114833
CREATED:20220402T082126Z
LAST-MODIFIED:20220402T082126Z
UID:9001-1649973600-1649973600@laparroquia.org
SUMMARY:Hora Santa
DESCRIPTION:
URL:https://laparroquia.org/event/hora-santa/
END:VEVENT
BEGIN:VEVENT
DTSTART;TZID=UTC:20220414T183000
DTEND;TZID=UTC:20220414T183000
DTSTAMP:20260421T114833
CREATED:20220402T082056Z
LAST-MODIFIED:20220402T082056Z
UID:8999-1649961000-1649961000@laparroquia.org
SUMMARY:Solemne Cena del Señor (oficios)
DESCRIPTION:
URL:https://laparroquia.org/event/solemne-cena-del-senor-oficios/
END:VEVENT
BEGIN:VEVENT
DTSTART;TZID=UTC:20220414T170000
DTEND;TZID=UTC:20220414T170000
DTSTAMP:20260421T114833
CREATED:20220402T082009Z
LAST-MODIFIED:20220402T082009Z
UID:8997-1649955600-1649955600@laparroquia.org
SUMMARY:Eucaristía Sencilla
DESCRIPTION:
URL:https://laparroquia.org/event/eucaristia-sencilla/
END:VEVENT
BEGIN:VEVENT
DTSTART;TZID=UTC:20220414T100000
DTEND;TZID=UTC:20220414T100000
DTSTAMP:20260421T114833
CREATED:20220402T081927Z
LAST-MODIFIED:20220402T081927Z
UID:8995-1649930400-1649930400@laparroquia.org
SUMMARY:Laudes (Parroquia de San Juan de Mata)
DESCRIPTION:
URL:https://laparroquia.org/event/laudes-parroquia-de-san-juan-de-mata/
END:VEVENT
BEGIN:VEVENT
DTSTART;TZID=UTC:20220412T200000
DTEND;TZID=UTC:20220412T200000
DTSTAMP:20260421T114833
CREATED:20220402T081837Z
LAST-MODIFIED:20220402T081837Z
UID:8993-1649793600-1649793600@laparroquia.org
SUMMARY:Celebración comunitaria de la Penitencia
DESCRIPTION:
URL:https://laparroquia.org/event/celebracion-comunitaria-de-la-penitencia-2/
END:VEVENT
BEGIN:VEVENT
DTSTART;TZID=UTC:20220412T120000
DTEND;TZID=UTC:20220412T120000
DTSTAMP:20260421T114833
CREATED:20220402T081812Z
LAST-MODIFIED:20220402T081819Z
UID:8990-1649764800-1649764800@laparroquia.org
SUMMARY:Celebración comunitaria de la Penitencia
DESCRIPTION:
URL:https://laparroquia.org/event/celebracion-comunitaria-de-la-penitencia/
END:VEVENT
BEGIN:VEVENT
DTSTART;TZID=UTC:20220410T120000
DTEND;TZID=UTC:20220410T120000
DTSTAMP:20260421T114833
CREATED:20220402T081707Z
LAST-MODIFIED:20220402T081730Z
UID:8987-1649592000-1649592000@laparroquia.org
SUMMARY:Domingo de Ramos (Bendición de Ramos)
DESCRIPTION:
URL:https://laparroquia.org/event/bendicion-de-los-ramos-en-la-eucaristia/
END:VEVENT
BEGIN:VEVENT
DTSTART;TZID=UTC:20220408T192000
DTEND;TZID=UTC:20220408T192000
DTSTAMP:20260421T114833
CREATED:20220402T081601Z
LAST-MODIFIED:20220402T081601Z
UID:8985-1649445600-1649445600@laparroquia.org
SUMMARY:Viacrucis
DESCRIPTION:
URL:https://laparroquia.org/event/viacrucis-3/
END:VEVENT
BEGIN:VEVENT
DTSTART;TZID=UTC:20220406T180000
DTEND;TZID=UTC:20220406T180000
DTSTAMP:20260421T114833
CREATED:20220402T081454Z
LAST-MODIFIED:20220402T081454Z
UID:8982-1649268000-1649268000@laparroquia.org
SUMMARY:Reunión grupo Confirmación Adultos
DESCRIPTION:
URL:https://laparroquia.org/event/reunion-grupo-confirmacion-adultos/
END:VEVENT
BEGIN:VEVENT
DTSTART;TZID=UTC:20220406T180000
DTEND;TZID=UTC:20220406T180000
DTSTAMP:20260421T114833
CREATED:20220402T081417Z
LAST-MODIFIED:20220402T081524Z
UID:8980-1649268000-1649268000@laparroquia.org
SUMMARY:Viacrucis Catequesis
DESCRIPTION:
URL:https://laparroquia.org/event/via-crucis-catequesis/
END:VEVENT
BEGIN:VEVENT
DTSTART;TZID=UTC:20220403T100000
DTEND;TZID=UTC:20220403T110000
DTSTAMP:20260421T114833
CREATED:20220324T202230Z
LAST-MODIFIED:20220324T202230Z
UID:8973-1648980000-1648983600@laparroquia.org
SUMMARY:Retransmisión Misa Radio María
DESCRIPTION:
URL:https://laparroquia.org/event/retransmision-misa-radio-maria/
END:VEVENT
BEGIN:VEVENT
DTSTART;TZID=UTC:20220402T193000
DTEND;TZID=UTC:20220402T203000
DTSTAMP:20260421T114833
CREATED:20220324T202136Z
LAST-MODIFIED:20220324T202136Z
UID:8971-1648927800-1648931400@laparroquia.org
SUMMARY:Adoración nocturna
DESCRIPTION:
URL:https://laparroquia.org/event/adoracion-nocturna/
END:VEVENT
BEGIN:VEVENT
DTSTART;TZID=UTC:20220401T192000
DTEND;TZID=UTC:20220401T200000
DTSTAMP:20260421T114833
CREATED:20220324T202105Z
LAST-MODIFIED:20220324T202105Z
UID:8969-1648840800-1648843200@laparroquia.org
SUMMARY:Viacrucis
DESCRIPTION:
URL:https://laparroquia.org/event/viacrucis-2/
END:VEVENT
END:VCALENDAR