BEGIN:VCALENDAR
VERSION:2.0
PRODID:-//Parroquia Santa Teresa - ECPv6.10.1//NONSGML v1.0//EN
CALSCALE:GREGORIAN
METHOD:PUBLISH
X-WR-CALNAME:Parroquia Santa Teresa
X-ORIGINAL-URL:https://laparroquia.org
X-WR-CALDESC:Eventos para Parroquia Santa Teresa
REFRESH-INTERVAL;VALUE=DURATION:PT1H
X-Robots-Tag:noindex
X-PUBLISHED-TTL:PT1H
BEGIN:VTIMEZONE
TZID:UTC
BEGIN:STANDARD
TZOFFSETFROM:+0000
TZOFFSETTO:+0000
TZNAME:UTC
DTSTART:20220101T000000
END:STANDARD
END:VTIMEZONE
BEGIN:VEVENT
DTSTART;TZID=UTC:20220408T192000
DTEND;TZID=UTC:20220408T192000
DTSTAMP:20260421T144623
CREATED:20220402T081601Z
LAST-MODIFIED:20220402T081601Z
UID:8985-1649445600-1649445600@laparroquia.org
SUMMARY:Viacrucis
DESCRIPTION:
URL:https://laparroquia.org/event/viacrucis-3/
END:VEVENT
BEGIN:VEVENT
DTSTART;TZID=UTC:20220406T180000
DTEND;TZID=UTC:20220406T180000
DTSTAMP:20260421T144623
CREATED:20220402T081454Z
LAST-MODIFIED:20220402T081454Z
UID:8982-1649268000-1649268000@laparroquia.org
SUMMARY:Reunión grupo Confirmación Adultos
DESCRIPTION:
URL:https://laparroquia.org/event/reunion-grupo-confirmacion-adultos/
END:VEVENT
BEGIN:VEVENT
DTSTART;TZID=UTC:20220406T180000
DTEND;TZID=UTC:20220406T180000
DTSTAMP:20260421T144623
CREATED:20220402T081417Z
LAST-MODIFIED:20220402T081524Z
UID:8980-1649268000-1649268000@laparroquia.org
SUMMARY:Viacrucis Catequesis
DESCRIPTION:
URL:https://laparroquia.org/event/via-crucis-catequesis/
END:VEVENT
BEGIN:VEVENT
DTSTART;TZID=UTC:20220403T100000
DTEND;TZID=UTC:20220403T110000
DTSTAMP:20260421T144623
CREATED:20220324T202230Z
LAST-MODIFIED:20220324T202230Z
UID:8973-1648980000-1648983600@laparroquia.org
SUMMARY:Retransmisión Misa Radio María
DESCRIPTION:
URL:https://laparroquia.org/event/retransmision-misa-radio-maria/
END:VEVENT
BEGIN:VEVENT
DTSTART;TZID=UTC:20220402T193000
DTEND;TZID=UTC:20220402T203000
DTSTAMP:20260421T144623
CREATED:20220324T202136Z
LAST-MODIFIED:20220324T202136Z
UID:8971-1648927800-1648931400@laparroquia.org
SUMMARY:Adoración nocturna
DESCRIPTION:
URL:https://laparroquia.org/event/adoracion-nocturna/
END:VEVENT
BEGIN:VEVENT
DTSTART;TZID=UTC:20220401T192000
DTEND;TZID=UTC:20220401T200000
DTSTAMP:20260421T144623
CREATED:20220324T202105Z
LAST-MODIFIED:20220324T202105Z
UID:8969-1648840800-1648843200@laparroquia.org
SUMMARY:Viacrucis
DESCRIPTION:
URL:https://laparroquia.org/event/viacrucis-2/
END:VEVENT
BEGIN:VEVENT
DTSTART;TZID=UTC:20220330T180000
DTEND;TZID=UTC:20220330T190000
DTSTAMP:20260421T144623
CREATED:20220324T202032Z
LAST-MODIFIED:20220324T202032Z
UID:8967-1648663200-1648666800@laparroquia.org
SUMMARY:Reunión de padres de 1ª Comunión
DESCRIPTION:
URL:https://laparroquia.org/event/reunion-de-padres-de-1a-comunion/
END:VEVENT
BEGIN:VEVENT
DTSTART;TZID=UTC:20220328T203000
DTEND;TZID=UTC:20220328T203000
DTSTAMP:20260421T144623
CREATED:20220324T201953Z
LAST-MODIFIED:20220324T201953Z
UID:8965-1648499400-1648499400@laparroquia.org
SUMMARY:Reunión de Consejo de Pastoral
DESCRIPTION:
URL:https://laparroquia.org/event/reunion-de-consejo-de-pastoral/
END:VEVENT
BEGIN:VEVENT
DTSTART;VALUE=DATE:20220320
DTEND;VALUE=DATE:20220321
DTSTAMP:20260421T144623
CREATED:20220312T175747Z
LAST-MODIFIED:20220312T175747Z
UID:8955-1647734400-1647820799@laparroquia.org
SUMMARY:Colecta pro seminario
DESCRIPTION:
URL:https://laparroquia.org/event/colecta-pro-seminario/
END:VEVENT
BEGIN:VEVENT
DTSTART;VALUE=DATE:20220319
DTEND;VALUE=DATE:20220320
DTSTAMP:20260421T144623
CREATED:20220312T175723Z
LAST-MODIFIED:20220312T175819Z
UID:8953-1647648000-1647734399@laparroquia.org
SUMMARY:San José. Misas de 12\,30 y 20 h. (No festivo).
DESCRIPTION:
URL:https://laparroquia.org/event/san-jose/
END:VEVENT
BEGIN:VEVENT
DTSTART;TZID=UTC:20220318T192000
DTEND;TZID=UTC:20220318T192000
DTSTAMP:20260421T144623
CREATED:20220312T175647Z
LAST-MODIFIED:20220312T175647Z
UID:8951-1647631200-1647631200@laparroquia.org
SUMMARY:Viacrucis
DESCRIPTION:
URL:https://laparroquia.org/event/viacrucis/
END:VEVENT
BEGIN:VEVENT
DTSTART;TZID=UTC:20220316T180000
DTEND;TZID=UTC:20220316T180000
DTSTAMP:20260421T144623
CREATED:20220312T175618Z
LAST-MODIFIED:20220312T175618Z
UID:8949-1647453600-1647453600@laparroquia.org
SUMMARY:Reunión mensual padres de 1ª Comunión
DESCRIPTION:
URL:https://laparroquia.org/event/reunion-mensual-padres-de-1a-comunion/
END:VEVENT
BEGIN:VEVENT
DTSTART;TZID=UTC:20220315T203000
DTEND;TZID=UTC:20220315T203000
DTSTAMP:20260421T144623
CREATED:20220312T175331Z
LAST-MODIFIED:20220312T175331Z
UID:8947-1647376200-1647376200@laparroquia.org
SUMMARY:Consejo de Pastoral Parroquial
DESCRIPTION:
URL:https://laparroquia.org/event/consejo-de-pastoral-parroquial/
END:VEVENT
END:VCALENDAR