BEGIN:VCALENDAR
VERSION:2.0
PRODID:-//Parroquia Santa Teresa - ECPv6.10.1//NONSGML v1.0//EN
CALSCALE:GREGORIAN
METHOD:PUBLISH
X-WR-CALNAME:Parroquia Santa Teresa
X-ORIGINAL-URL:https://laparroquia.org
X-WR-CALDESC:Eventos para Parroquia Santa Teresa
REFRESH-INTERVAL;VALUE=DURATION:PT1H
X-Robots-Tag:noindex
X-PUBLISHED-TTL:PT1H
BEGIN:VTIMEZONE
TZID:UTC
BEGIN:STANDARD
TZOFFSETFROM:+0000
TZOFFSETTO:+0000
TZNAME:UTC
DTSTART:20220101T000000
END:STANDARD
END:VTIMEZONE
BEGIN:VEVENT
DTSTART;TZID=UTC:20220315T203000
DTEND;TZID=UTC:20220315T203000
DTSTAMP:20260421T160830
CREATED:20220312T175331Z
LAST-MODIFIED:20220312T175331Z
UID:8947-1647376200-1647376200@laparroquia.org
SUMMARY:Consejo de Pastoral Parroquial
DESCRIPTION:
URL:https://laparroquia.org/event/consejo-de-pastoral-parroquial/
END:VEVENT
END:VCALENDAR